BEGIN:VCALENDAR
VERSION:2.0
PRODID:-//Narcóticos Anónimos Costa Rica - ECPv6.15.20//NONSGML v1.0//EN
CALSCALE:GREGORIAN
METHOD:PUBLISH
X-ORIGINAL-URL:https://narcoticosanonimoscr.org
X-WR-CALDESC:Eventos para Narcóticos Anónimos Costa Rica
REFRESH-INTERVAL;VALUE=DURATION:PT1H
X-Robots-Tag:noindex
X-PUBLISHED-TTL:PT1H
BEGIN:VTIMEZONE
TZID:America/Costa_Rica
BEGIN:STANDARD
TZOFFSETFROM:-0600
TZOFFSETTO:-0600
TZNAME:CST
DTSTART:20250101T000000
END:STANDARD
END:VTIMEZONE
BEGIN:VEVENT
DTSTART;TZID=America/Costa_Rica:20261129T000000
DTEND;TZID=America/Costa_Rica:20261129T235900
DTSTAMP:20260423T193403
CREATED:20251230T204022Z
LAST-MODIFIED:20251230T204022Z
UID:4048-1795910400-1795996740@narcoticosanonimoscr.org
SUMMARY:Conferencia Electiva
DESCRIPTION:Conferencia Electiva
URL:https://narcoticosanonimoscr.org/actividad/conferencia-electiva-2/
CATEGORIES:Conferencia
ATTACH;FMTTYPE=image/png:https://narcoticosanonimoscr.org/wp-content/uploads/2025/12/calendario-na.png
END:VEVENT
BEGIN:VEVENT
DTSTART;TZID=America/Costa_Rica:20261205T000000
DTEND;TZID=America/Costa_Rica:20261205T235900
DTSTAMP:20260423T193403
CREATED:20251230T204037Z
LAST-MODIFIED:20251230T204037Z
UID:4049-1796428800-1796515140@narcoticosanonimoscr.org
SUMMARY:Aniversario del Grupo Si Funciona
DESCRIPTION:Aniversario del Grupo Si Funciona
URL:https://narcoticosanonimoscr.org/actividad/aniversario-del-grupo-si-funciona/
CATEGORIES:Aniversario
ATTACH;FMTTYPE=image/png:https://narcoticosanonimoscr.org/wp-content/uploads/2025/12/calendario-na.png
END:VEVENT
BEGIN:VEVENT
DTSTART;TZID=America/Costa_Rica:20261206T000000
DTEND;TZID=America/Costa_Rica:20261206T235900
DTSTAMP:20260423T193403
CREATED:20251230T204037Z
LAST-MODIFIED:20251230T204037Z
UID:4050-1796515200-1796601540@narcoticosanonimoscr.org
SUMMARY:Dia Mundial del Padrinazgo
DESCRIPTION:Dia Mundial del Padrinazgo
URL:https://narcoticosanonimoscr.org/actividad/dia-mundial-del-padrinazgo/
CATEGORIES:Evento
ATTACH;FMTTYPE=image/png:https://narcoticosanonimoscr.org/wp-content/uploads/2025/12/calendario-na.png
END:VEVENT
BEGIN:VEVENT
DTSTART;TZID=America/Costa_Rica:20261212T000000
DTEND;TZID=America/Costa_Rica:20261212T235900
DTSTAMP:20260423T193403
CREATED:20251230T204037Z
LAST-MODIFIED:20251230T204037Z
UID:4051-1797033600-1797119940@narcoticosanonimoscr.org
SUMMARY:Aniversario del Grupo Vida de Guapiles + Reunion CSR
DESCRIPTION:Aniversario del Grupo Vida de Guapiles + Reunion CSR
URL:https://narcoticosanonimoscr.org/actividad/aniversario-del-grupo-vida-de-guapiles-reunion-csr/
CATEGORIES:CSR
ATTACH;FMTTYPE=image/png:https://narcoticosanonimoscr.org/wp-content/uploads/2025/12/calendario-na.png
END:VEVENT
BEGIN:VEVENT
DTSTART;TZID=America/Costa_Rica:20261213T000000
DTEND;TZID=America/Costa_Rica:20261213T235900
DTSTAMP:20260423T193403
CREATED:20251230T204038Z
LAST-MODIFIED:20251230T204038Z
UID:4052-1797120000-1797206340@narcoticosanonimoscr.org
SUMMARY:FoAG3 + FoAG ZNC
DESCRIPTION:FoAG3 + FoAG ZNC
URL:https://narcoticosanonimoscr.org/actividad/foag3-foag-znc/
CATEGORIES:FoAG
ATTACH;FMTTYPE=image/png:https://narcoticosanonimoscr.org/wp-content/uploads/2025/12/calendario-na.png
END:VEVENT
BEGIN:VEVENT
DTSTART;TZID=America/Costa_Rica:20261220T000000
DTEND;TZID=America/Costa_Rica:20261220T235900
DTSTAMP:20260423T193403
CREATED:20251230T204038Z
LAST-MODIFIED:20251230T204038Z
UID:4053-1797724800-1797811140@narcoticosanonimoscr.org
SUMMARY:FoAG ZS+FoAG2
DESCRIPTION:FoAG ZS+FoAG2
URL:https://narcoticosanonimoscr.org/actividad/foag-zsfoag2-3/
CATEGORIES:FoAG
ATTACH;FMTTYPE=image/png:https://narcoticosanonimoscr.org/wp-content/uploads/2025/12/calendario-na.png
END:VEVENT
BEGIN:VEVENT
DTSTART;TZID=America/Costa_Rica:20261223T000000
DTEND;TZID=America/Costa_Rica:20261223T235900
DTSTAMP:20260423T193403
CREATED:20251230T204049Z
LAST-MODIFIED:20251230T204049Z
UID:4054-1797984000-1798070340@narcoticosanonimoscr.org
SUMMARY:Aniversario del Grupo Victoria
DESCRIPTION:Aniversario del Grupo Victoria
URL:https://narcoticosanonimoscr.org/actividad/aniversario-del-grupo-victoria/
CATEGORIES:Aniversario
ATTACH;FMTTYPE=image/png:https://narcoticosanonimoscr.org/wp-content/uploads/2025/12/calendario-na.png
END:VEVENT
BEGIN:VEVENT
DTSTART;TZID=America/Costa_Rica:20261227T000000
DTEND;TZID=America/Costa_Rica:20261227T235900
DTSTAMP:20260423T193403
CREATED:20251230T204050Z
LAST-MODIFIED:20251230T204050Z
UID:4055-1798329600-1798415940@narcoticosanonimoscr.org
SUMMARY:Aniversario del Grupo Vivir Limpios (Tarrazu)FoAG Pacifico
DESCRIPTION:Aniversario del Grupo Vivir Limpios (Tarrazu)FoAG Pacifico
URL:https://narcoticosanonimoscr.org/actividad/aniversario-del-grupo-vivir-limpios-tarrazufoag-pacifico/
CATEGORIES:FoAG
ATTACH;FMTTYPE=image/png:https://narcoticosanonimoscr.org/wp-content/uploads/2025/12/calendario-na.png
END:VEVENT
END:VCALENDAR