BEGIN:VCALENDAR
VERSION:2.0
PRODID:-//Narcóticos Anónimos Costa Rica - ECPv6.15.20//NONSGML v1.0//EN
CALSCALE:GREGORIAN
METHOD:PUBLISH
X-WR-CALNAME:Narcóticos Anónimos Costa Rica
X-ORIGINAL-URL:https://narcoticosanonimoscr.org
X-WR-CALDESC:Eventos para Narcóticos Anónimos Costa Rica
REFRESH-INTERVAL;VALUE=DURATION:PT1H
X-Robots-Tag:noindex
X-PUBLISHED-TTL:PT1H
BEGIN:VTIMEZONE
TZID:America/Costa_Rica
BEGIN:STANDARD
TZOFFSETFROM:-0600
TZOFFSETTO:-0600
TZNAME:CST
DTSTART:20250101T000000
END:STANDARD
END:VTIMEZONE
BEGIN:VEVENT
DTSTART;TZID=America/Costa_Rica:20260124T000000
DTEND;TZID=America/Costa_Rica:20260124T235900
DTSTAMP:20260423T132310
CREATED:20251230T203626Z
LAST-MODIFIED:20251230T203626Z
UID:3968-1769212800-1769299140@narcoticosanonimoscr.org
SUMMARY:Aniversario del Grupo Nuevo Paraiso + Semana anual de planificacion
DESCRIPTION:Aniversario del Grupo Nuevo Paraiso + Semana anual de planificacion
URL:https://narcoticosanonimoscr.org/actividad/aniversario-del-grupo-nuevo-paraiso-semana-anual-de-planificacion/
CATEGORIES:Aniversario
ATTACH;FMTTYPE=image/png:https://narcoticosanonimoscr.org/wp-content/uploads/2025/12/calendario-na.png
END:VEVENT
BEGIN:VEVENT
DTSTART;TZID=America/Costa_Rica:20260123T000000
DTEND;TZID=America/Costa_Rica:20260123T235900
DTSTAMP:20260423T132310
CREATED:20251230T203626Z
LAST-MODIFIED:20251230T203626Z
UID:3967-1769126400-1769212740@narcoticosanonimoscr.org
SUMMARY:Semana anual de planificacion
DESCRIPTION:Semana anual de planificacion
URL:https://narcoticosanonimoscr.org/actividad/semana-anual-de-planificacion-4/
CATEGORIES:Actividad
ATTACH;FMTTYPE=image/png:https://narcoticosanonimoscr.org/wp-content/uploads/2025/12/calendario-na.png
END:VEVENT
BEGIN:VEVENT
DTSTART;TZID=America/Costa_Rica:20260122T000000
DTEND;TZID=America/Costa_Rica:20260122T235900
DTSTAMP:20260423T132310
CREATED:20251230T203626Z
LAST-MODIFIED:20251230T203626Z
UID:3966-1769040000-1769126340@narcoticosanonimoscr.org
SUMMARY:Semana anual de planificacion
DESCRIPTION:Semana anual de planificacion
URL:https://narcoticosanonimoscr.org/actividad/semana-anual-de-planificacion-3/
CATEGORIES:Actividad
ATTACH;FMTTYPE=image/png:https://narcoticosanonimoscr.org/wp-content/uploads/2025/12/calendario-na.png
END:VEVENT
BEGIN:VEVENT
DTSTART;TZID=America/Costa_Rica:20260121T000000
DTEND;TZID=America/Costa_Rica:20260121T235900
DTSTAMP:20260423T132310
CREATED:20251230T203626Z
LAST-MODIFIED:20251230T203626Z
UID:3965-1768953600-1769039940@narcoticosanonimoscr.org
SUMMARY:Semana anual de planificacion
DESCRIPTION:Semana anual de planificacion
URL:https://narcoticosanonimoscr.org/actividad/semana-anual-de-planificacion-2/
CATEGORIES:Actividad
ATTACH;FMTTYPE=image/png:https://narcoticosanonimoscr.org/wp-content/uploads/2025/12/calendario-na.png
END:VEVENT
BEGIN:VEVENT
DTSTART;TZID=America/Costa_Rica:20260120T000000
DTEND;TZID=America/Costa_Rica:20260120T235900
DTSTAMP:20260423T132310
CREATED:20251230T203625Z
LAST-MODIFIED:20251230T203625Z
UID:3964-1768867200-1768953540@narcoticosanonimoscr.org
SUMMARY:Semana anual de planificacion
DESCRIPTION:Semana anual de planificacion
URL:https://narcoticosanonimoscr.org/actividad/semana-anual-de-planificacion/
CATEGORIES:Actividad
ATTACH;FMTTYPE=image/png:https://narcoticosanonimoscr.org/wp-content/uploads/2025/12/calendario-na.png
END:VEVENT
BEGIN:VEVENT
DTSTART;TZID=America/Costa_Rica:20260118T000000
DTEND;TZID=America/Costa_Rica:20260118T235900
DTSTAMP:20260423T132310
CREATED:20251230T203613Z
LAST-MODIFIED:20251230T203613Z
UID:3963-1768694400-1768780740@narcoticosanonimoscr.org
SUMMARY:FoAG ZNC+FoAG ZS+FoAG2
DESCRIPTION:FoAG ZNC+FoAG ZS+FoAG2
URL:https://narcoticosanonimoscr.org/actividad/foag-zncfoag-zsfoag2/
CATEGORIES:FoAG
ATTACH;FMTTYPE=image/png:https://narcoticosanonimoscr.org/wp-content/uploads/2025/12/calendario-na.png
END:VEVENT
BEGIN:VEVENT
DTSTART;TZID=America/Costa_Rica:20260117T000000
DTEND;TZID=America/Costa_Rica:20260117T235900
DTSTAMP:20260423T132310
CREATED:20251230T203613Z
LAST-MODIFIED:20251230T203613Z
UID:3962-1768608000-1768694340@narcoticosanonimoscr.org
SUMMARY:Reunion magna de aniversario del grupo solo por hoy y Baile + Webinario de SMNA de RRPP
DESCRIPTION:Reunion magna de aniversario del grupo solo por hoy y Baile + Webinario de SMNA de RRPP
URL:https://narcoticosanonimoscr.org/actividad/reunion-magna-de-aniversario-del-grupo-solo-por-hoy-y-baile-webinario-de-smna-de-rrpp/
CATEGORIES:Aniversario
ATTACH;FMTTYPE=image/png:https://narcoticosanonimoscr.org/wp-content/uploads/2025/12/calendario-na.png
END:VEVENT
BEGIN:VEVENT
DTSTART;TZID=America/Costa_Rica:20260116T000000
DTEND;TZID=America/Costa_Rica:20260116T235900
DTSTAMP:20260423T132310
CREATED:20251230T203612Z
LAST-MODIFIED:20251230T203612Z
UID:3961-1768521600-1768607940@narcoticosanonimoscr.org
SUMMARY:Maratonica de aniversario del Grupo Solo Por hoy + Reunion magna celebracion del aniversario del Gru
DESCRIPTION:Maratonica de aniversario del Grupo Solo Por hoy + Reunion magna celebracion del aniversario del Grupo Salida
URL:https://narcoticosanonimoscr.org/actividad/maratonica-de-aniversario-del-grupo-solo-por-hoy-reunion-magna-celebracion-del-aniversario-del-gru/
CATEGORIES:Aniversario
ATTACH;FMTTYPE=image/png:https://narcoticosanonimoscr.org/wp-content/uploads/2025/12/calendario-na.png
END:VEVENT
BEGIN:VEVENT
DTSTART;TZID=America/Costa_Rica:20260111T000000
DTEND;TZID=America/Costa_Rica:20260111T235900
DTSTAMP:20260423T132310
CREATED:20251230T203612Z
LAST-MODIFIED:20251230T203612Z
UID:3960-1768089600-1768175940@narcoticosanonimoscr.org
SUMMARY:Inician preliminatres del grupo Solo por hoy\, de11 a 17 de enero + FoAG3
DESCRIPTION:Inician preliminatres del grupo Solo por hoy\, de11 a 17 de enero + FoAG3
URL:https://narcoticosanonimoscr.org/actividad/inician-preliminatres-del-grupo-solo-por-hoy-de11-a-17-de-enero-foag3/
CATEGORIES:Preliminares
ATTACH;FMTTYPE=image/png:https://narcoticosanonimoscr.org/wp-content/uploads/2025/12/calendario-na.png
END:VEVENT
BEGIN:VEVENT
DTSTART;TZID=America/Costa_Rica:20260110T000000
DTEND;TZID=America/Costa_Rica:20260110T235900
DTSTAMP:20260423T132310
CREATED:20251230T203612Z
LAST-MODIFIED:20251230T203612Z
UID:3959-1768003200-1768089540@narcoticosanonimoscr.org
SUMMARY:Reunion CSR+Webinario de SMNA de HeI
DESCRIPTION:Reunion CSR+Webinario de SMNA de HeI
URL:https://narcoticosanonimoscr.org/actividad/reunion-csrwebinario-de-smna-de-hei/
CATEGORIES:CSR
ATTACH;FMTTYPE=image/png:https://narcoticosanonimoscr.org/wp-content/uploads/2025/12/calendario-na.png
END:VEVENT
END:VCALENDAR