BEGIN:VCALENDAR
VERSION:2.0
PRODID:-//Narcóticos Anónimos Costa Rica - ECPv6.15.20//NONSGML v1.0//EN
CALSCALE:GREGORIAN
METHOD:PUBLISH
X-WR-CALNAME:Narcóticos Anónimos Costa Rica
X-ORIGINAL-URL:https://narcoticosanonimoscr.org
X-WR-CALDESC:Eventos para Narcóticos Anónimos Costa Rica
REFRESH-INTERVAL;VALUE=DURATION:PT1H
X-Robots-Tag:noindex
X-PUBLISHED-TTL:PT1H
BEGIN:VTIMEZONE
TZID:America/Costa_Rica
BEGIN:STANDARD
TZOFFSETFROM:-0600
TZOFFSETTO:-0600
TZNAME:CST
DTSTART:20250101T000000
END:STANDARD
END:VTIMEZONE
BEGIN:VEVENT
DTSTART;TZID=America/Costa_Rica:20260515T210000
DTEND;TZID=America/Costa_Rica:20260515T235900
DTSTAMP:20260423T165546
CREATED:20260320T134415Z
LAST-MODIFIED:20260421T000142Z
UID:5370-1778878800-1778889540@narcoticosanonimoscr.org
SUMMARY:Karaoke y concurso de baile 🎤💃
DESCRIPTION:Actividad Pro-convención \nGrupo: Grupo Buenaventura
URL:https://narcoticosanonimoscr.org/actividad/karaoke-y-concurso-de-baile-%f0%9f%8e%a4%f0%9f%92%83/
LOCATION:Grupo Buenaventura
CATEGORIES:Actividad
END:VEVENT
BEGIN:VEVENT
DTSTART;TZID=America/Costa_Rica:20260516T000000
DTEND;TZID=America/Costa_Rica:20260516T235900
DTSTAMP:20260423T165546
CREATED:20251230T203805Z
LAST-MODIFIED:20251230T203805Z
UID:3999-1778889600-1778975940@narcoticosanonimoscr.org
SUMMARY:Entrega Invitacion a la Conferencia de Seguimiento
DESCRIPTION:Entrega Invitacion a la Conferencia de Seguimiento
URL:https://narcoticosanonimoscr.org/actividad/entrega-invitacion-a-la-conferencia-de-seguimiento/
CATEGORIES:Conferencia
ATTACH;FMTTYPE=image/png:https://narcoticosanonimoscr.org/wp-content/uploads/2025/12/calendario-na.png
END:VEVENT
BEGIN:VEVENT
DTSTART;TZID=America/Costa_Rica:20260516T210000
DTEND;TZID=America/Costa_Rica:20260516T235900
DTSTAMP:20260423T165546
CREATED:20260320T135009Z
LAST-MODIFIED:20260420T221852Z
UID:5374-1778965200-1778975940@narcoticosanonimoscr.org
SUMMARY:Maratónica Serenos
DESCRIPTION:Maratónica Serenos\, después de las 9:00 p.m.\, en el Grupo Una Luz en Paso Ancho
URL:https://narcoticosanonimoscr.org/actividad/maratonica-hei/
LOCATION:Grupo una Luz en Paso Ancho\, Contiguo a plaza de deportes
CATEGORIES:Maraton
END:VEVENT
BEGIN:VEVENT
DTSTART;TZID=America/Costa_Rica:20260517T000000
DTEND;TZID=America/Costa_Rica:20260517T233000
DTSTAMP:20260423T165546
CREATED:20260404T160325Z
LAST-MODIFIED:20260404T160739Z
UID:5549-1778976000-1779060600@narcoticosanonimoscr.org
SUMMARY:DÍA MUNDIAL DEL SERVICIO
DESCRIPTION:
URL:https://narcoticosanonimoscr.org/actividad/dia-mundial-del-servicio/
ATTACH;FMTTYPE=image/png:https://narcoticosanonimoscr.org/wp-content/uploads/2026/04/SERVICIO.png
END:VEVENT
BEGIN:VEVENT
DTSTART;TZID=America/Costa_Rica:20260517T000000
DTEND;TZID=America/Costa_Rica:20260517T235900
DTSTAMP:20260423T165546
CREATED:20251230T203805Z
LAST-MODIFIED:20251230T203805Z
UID:4000-1778976000-1779062340@narcoticosanonimoscr.org
SUMMARY:FoAG ZS+FoAG2
DESCRIPTION:FoAG ZS+FoAG2
URL:https://narcoticosanonimoscr.org/actividad/foag-zsfoag2/
CATEGORIES:FoAG
ATTACH;FMTTYPE=image/png:https://narcoticosanonimoscr.org/wp-content/uploads/2025/12/calendario-na.png
END:VEVENT
BEGIN:VEVENT
DTSTART;TZID=America/Costa_Rica:20260531T000000
DTEND;TZID=America/Costa_Rica:20260531T235900
DTSTAMP:20260423T165546
CREATED:20251230T203805Z
LAST-MODIFIED:20251230T203805Z
UID:4001-1780185600-1780271940@narcoticosanonimoscr.org
SUMMARY:FoAG ZNC+FoAG Pacifico
DESCRIPTION:FoAG ZNC+FoAG Pacifico
URL:https://narcoticosanonimoscr.org/actividad/foag-zncfoag-pacifico-3/
CATEGORIES:FoAG
ATTACH;FMTTYPE=image/png:https://narcoticosanonimoscr.org/wp-content/uploads/2025/12/calendario-na.png
END:VEVENT
BEGIN:VEVENT
DTSTART;TZID=America/Costa_Rica:20260602T000000
DTEND;TZID=America/Costa_Rica:20260602T235900
DTSTAMP:20260423T165546
CREATED:20251230T203806Z
LAST-MODIFIED:20251230T203806Z
UID:4002-1780358400-1780444740@narcoticosanonimoscr.org
SUMMARY:Semana Mundial RRPP
DESCRIPTION:Semana Mundial RRPP
URL:https://narcoticosanonimoscr.org/actividad/semana-mundial-rrpp/
CATEGORIES:Actividad
ATTACH;FMTTYPE=image/png:https://narcoticosanonimoscr.org/wp-content/uploads/2025/12/calendario-na.png
END:VEVENT
BEGIN:VEVENT
DTSTART;TZID=America/Costa_Rica:20260603T000000
DTEND;TZID=America/Costa_Rica:20260603T235900
DTSTAMP:20260423T165546
CREATED:20251230T203806Z
LAST-MODIFIED:20251230T203806Z
UID:4003-1780444800-1780531140@narcoticosanonimoscr.org
SUMMARY:Semana Mundial RRPP
DESCRIPTION:Semana Mundial RRPP
URL:https://narcoticosanonimoscr.org/actividad/semana-mundial-rrpp-2/
CATEGORIES:Actividad
ATTACH;FMTTYPE=image/png:https://narcoticosanonimoscr.org/wp-content/uploads/2025/12/calendario-na.png
END:VEVENT
BEGIN:VEVENT
DTSTART;TZID=America/Costa_Rica:20260604T000000
DTEND;TZID=America/Costa_Rica:20260604T235900
DTSTAMP:20260423T165546
CREATED:20251230T203819Z
LAST-MODIFIED:20251230T203819Z
UID:4004-1780531200-1780617540@narcoticosanonimoscr.org
SUMMARY:Semana Mundial RRPP
DESCRIPTION:Semana Mundial RRPP
URL:https://narcoticosanonimoscr.org/actividad/semana-mundial-rrpp-3/
CATEGORIES:Actividad
ATTACH;FMTTYPE=image/png:https://narcoticosanonimoscr.org/wp-content/uploads/2025/12/calendario-na.png
END:VEVENT
BEGIN:VEVENT
DTSTART;TZID=America/Costa_Rica:20260605T000000
DTEND;TZID=America/Costa_Rica:20260605T235900
DTSTAMP:20260423T165546
CREATED:20251230T203819Z
LAST-MODIFIED:20251230T203819Z
UID:4005-1780617600-1780703940@narcoticosanonimoscr.org
SUMMARY:Semana Mundial RRPP
DESCRIPTION:Semana Mundial RRPP
URL:https://narcoticosanonimoscr.org/actividad/semana-mundial-rrpp-4/
CATEGORIES:Actividad
ATTACH;FMTTYPE=image/png:https://narcoticosanonimoscr.org/wp-content/uploads/2025/12/calendario-na.png
END:VEVENT
BEGIN:VEVENT
DTSTART;TZID=America/Costa_Rica:20260606T000000
DTEND;TZID=America/Costa_Rica:20260606T235900
DTSTAMP:20260423T165546
CREATED:20251230T203820Z
LAST-MODIFIED:20251230T203820Z
UID:4006-1780704000-1780790340@narcoticosanonimoscr.org
SUMMARY:Semana Mundial RRPP
DESCRIPTION:Semana Mundial RRPP
URL:https://narcoticosanonimoscr.org/actividad/semana-mundial-rrpp-5/
CATEGORIES:Actividad
ATTACH;FMTTYPE=image/png:https://narcoticosanonimoscr.org/wp-content/uploads/2025/12/calendario-na.png
END:VEVENT
BEGIN:VEVENT
DTSTART;TZID=America/Costa_Rica:20260611T000000
DTEND;TZID=America/Costa_Rica:20260611T235900
DTSTAMP:20260423T165546
CREATED:20251230T203820Z
LAST-MODIFIED:20251230T203820Z
UID:4007-1781136000-1781222340@narcoticosanonimoscr.org
SUMMARY:Entrega del IAC-S
DESCRIPTION:Entrega del IAC-S
URL:https://narcoticosanonimoscr.org/actividad/entrega-del-iac-s/
CATEGORIES:Entrega
ATTACH;FMTTYPE=image/png:https://narcoticosanonimoscr.org/wp-content/uploads/2025/12/calendario-na.png
END:VEVENT
BEGIN:VEVENT
DTSTART;TZID=America/Costa_Rica:20260612T000000
DTEND;TZID=America/Costa_Rica:20260612T235900
DTSTAMP:20260423T165546
CREATED:20251230T203820Z
LAST-MODIFIED:20251230T203820Z
UID:4008-1781222400-1781308740@narcoticosanonimoscr.org
SUMMARY:Aniversario del Grupo Libertad de Quebrada Ganado
DESCRIPTION:Aniversario del Grupo Libertad de Quebrada Ganado
URL:https://narcoticosanonimoscr.org/actividad/aniversario-del-grupo-libertad-de-quebrada-ganado/
CATEGORIES:Aniversario
ATTACH;FMTTYPE=image/png:https://narcoticosanonimoscr.org/wp-content/uploads/2025/12/calendario-na.png
END:VEVENT
BEGIN:VEVENT
DTSTART;TZID=America/Costa_Rica:20260613T000000
DTEND;TZID=America/Costa_Rica:20260613T235900
DTSTAMP:20260423T165546
CREATED:20251230T203835Z
LAST-MODIFIED:20251230T203835Z
UID:4009-1781308800-1781395140@narcoticosanonimoscr.org
SUMMARY:Reunion CSR
DESCRIPTION:Reunion CSR
URL:https://narcoticosanonimoscr.org/actividad/reunion-csr-3/
CATEGORIES:CSR
ATTACH;FMTTYPE=image/png:https://narcoticosanonimoscr.org/wp-content/uploads/2025/12/calendario-na.png
END:VEVENT
BEGIN:VEVENT
DTSTART;TZID=America/Costa_Rica:20260614T000000
DTEND;TZID=America/Costa_Rica:20260614T235900
DTSTAMP:20260423T165546
CREATED:20251230T203835Z
LAST-MODIFIED:20251230T203835Z
UID:4010-1781395200-1781481540@narcoticosanonimoscr.org
SUMMARY:Aniversario del Grupo Volver a Nacer + FoAG3
DESCRIPTION:Aniversario del Grupo Volver a Nacer + FoAG3
URL:https://narcoticosanonimoscr.org/actividad/aniversario-del-grupo-volver-a-nacer-foag3/
CATEGORIES:FoAG
ATTACH;FMTTYPE=image/png:https://narcoticosanonimoscr.org/wp-content/uploads/2025/12/calendario-na.png
END:VEVENT
BEGIN:VEVENT
DTSTART;TZID=America/Costa_Rica:20260621T000000
DTEND;TZID=America/Costa_Rica:20260621T235900
DTSTAMP:20260423T165546
CREATED:20251230T203835Z
LAST-MODIFIED:20251230T203835Z
UID:4011-1782000000-1782086340@narcoticosanonimoscr.org
SUMMARY:Aniversario del Grupo Cambio + FoAG ZS+FoAG2
DESCRIPTION:Aniversario del Grupo Cambio + FoAG ZS+FoAG2
URL:https://narcoticosanonimoscr.org/actividad/aniversario-del-grupo-cambio-foag-zsfoag2/
CATEGORIES:FoAG
ATTACH;FMTTYPE=image/png:https://narcoticosanonimoscr.org/wp-content/uploads/2025/12/calendario-na.png
END:VEVENT
BEGIN:VEVENT
DTSTART;TZID=America/Costa_Rica:20260628T000000
DTEND;TZID=America/Costa_Rica:20260628T235900
DTSTAMP:20260423T165546
CREATED:20251230T203836Z
LAST-MODIFIED:20251230T203836Z
UID:4012-1782604800-1782691140@narcoticosanonimoscr.org
SUMMARY:FoAG ZNC+FoAG Pacifico
DESCRIPTION:FoAG ZNC+FoAG Pacifico
URL:https://narcoticosanonimoscr.org/actividad/foag-zncfoag-pacifico-4/
CATEGORIES:FoAG
ATTACH;FMTTYPE=image/png:https://narcoticosanonimoscr.org/wp-content/uploads/2025/12/calendario-na.png
END:VEVENT
BEGIN:VEVENT
DTSTART;TZID=America/Costa_Rica:20260702T000000
DTEND;TZID=America/Costa_Rica:20260702T235900
DTSTAMP:20260423T165546
CREATED:20251230T203836Z
LAST-MODIFIED:20251230T203836Z
UID:4013-1782950400-1783036740@narcoticosanonimoscr.org
SUMMARY:Aniversario del Grupo Nueva Vida Curridabat
DESCRIPTION:Aniversario del Grupo Nueva Vida Curridabat
URL:https://narcoticosanonimoscr.org/actividad/aniversario-del-grupo-nueva-vida-curridabat/
CATEGORIES:Aniversario
ATTACH;FMTTYPE=image/png:https://narcoticosanonimoscr.org/wp-content/uploads/2025/12/calendario-na.png
END:VEVENT
BEGIN:VEVENT
DTSTART;TZID=America/Costa_Rica:20260711T000000
DTEND;TZID=America/Costa_Rica:20260711T235900
DTSTAMP:20260423T165546
CREATED:20251230T203850Z
LAST-MODIFIED:20251230T203850Z
UID:4014-1783728000-1783814340@narcoticosanonimoscr.org
SUMMARY:Reunion CSR
DESCRIPTION:Reunion CSR
URL:https://narcoticosanonimoscr.org/actividad/reunion-csr-4/
CATEGORIES:CSR
ATTACH;FMTTYPE=image/png:https://narcoticosanonimoscr.org/wp-content/uploads/2025/12/calendario-na.png
END:VEVENT
BEGIN:VEVENT
DTSTART;TZID=America/Costa_Rica:20260712T000000
DTEND;TZID=America/Costa_Rica:20260712T235900
DTSTAMP:20260423T165546
CREATED:20251230T203850Z
LAST-MODIFIED:20251230T203850Z
UID:4015-1783814400-1783900740@narcoticosanonimoscr.org
SUMMARY:Aniversario del grupo Escape + Taller pre Conferencia de Seguimiento
DESCRIPTION:Aniversario del grupo Escape + Taller pre Conferencia de Seguimiento
URL:https://narcoticosanonimoscr.org/actividad/aniversario-del-grupo-escape-taller-pre-conferencia-de-seguimiento/
CATEGORIES:Aniversario
ATTACH;FMTTYPE=image/png:https://narcoticosanonimoscr.org/wp-content/uploads/2025/12/calendario-na.png
END:VEVENT
BEGIN:VEVENT
DTSTART;TZID=America/Costa_Rica:20260718T000000
DTEND;TZID=America/Costa_Rica:20260718T235900
DTSTAMP:20260423T165546
CREATED:20251230T203850Z
LAST-MODIFIED:20251230T203850Z
UID:4016-1784332800-1784419140@narcoticosanonimoscr.org
SUMMARY:Aniversario del Grupo Fe y Esperanza Puntarenas
DESCRIPTION:Aniversario del Grupo Fe y Esperanza Puntarenas
URL:https://narcoticosanonimoscr.org/actividad/aniversario-del-grupo-fe-y-esperanza-puntarenas/
CATEGORIES:Aniversario
ATTACH;FMTTYPE=image/png:https://narcoticosanonimoscr.org/wp-content/uploads/2025/12/calendario-na.png
END:VEVENT
BEGIN:VEVENT
DTSTART;TZID=America/Costa_Rica:20260719T000000
DTEND;TZID=America/Costa_Rica:20260719T235900
DTSTAMP:20260423T165546
CREATED:20251230T203851Z
LAST-MODIFIED:20251230T203851Z
UID:4017-1784419200-1784505540@narcoticosanonimoscr.org
SUMMARY:FoAG3+FoAG ZNC+FoAG ZS+FoAG2+FoAG Pacifico
DESCRIPTION:FoAG3+FoAG ZNC+FoAG ZS+FoAG2+FoAG Pacifico
URL:https://narcoticosanonimoscr.org/actividad/foag3foag-zncfoag-zsfoag2foag-pacifico/
CATEGORIES:FoAG
ATTACH;FMTTYPE=image/png:https://narcoticosanonimoscr.org/wp-content/uploads/2025/12/calendario-na.png
END:VEVENT
BEGIN:VEVENT
DTSTART;TZID=America/Costa_Rica:20260721T000000
DTEND;TZID=America/Costa_Rica:20260721T235900
DTSTAMP:20260423T165546
CREATED:20251230T203851Z
LAST-MODIFIED:20251230T203851Z
UID:4018-1784592000-1784678340@narcoticosanonimoscr.org
SUMMARY:Aniversario del Grupo Salva tu Vida (Cot)
DESCRIPTION:Aniversario del Grupo Salva tu Vida (Cot)
URL:https://narcoticosanonimoscr.org/actividad/aniversario-del-grupo-salva-tu-vida-cot/
CATEGORIES:Aniversario
ATTACH;FMTTYPE=image/png:https://narcoticosanonimoscr.org/wp-content/uploads/2025/12/calendario-na.png
END:VEVENT
BEGIN:VEVENT
DTSTART;TZID=America/Costa_Rica:20260724T000000
DTEND;TZID=America/Costa_Rica:20260724T235900
DTSTAMP:20260423T165546
CREATED:20251230T203906Z
LAST-MODIFIED:20251230T203906Z
UID:4019-1784851200-1784937540@narcoticosanonimoscr.org
SUMMARY:Aniversario del Grupo Pura Vida de Sarapiquí
DESCRIPTION:Aniversario del Grupo Pura Vida de Sarapiquí
URL:https://narcoticosanonimoscr.org/actividad/aniversario-del-grupo-pura-vida-de-sarapiqui/
CATEGORIES:Aniversario
ATTACH;FMTTYPE=image/png:https://narcoticosanonimoscr.org/wp-content/uploads/2025/12/calendario-na.png
END:VEVENT
BEGIN:VEVENT
DTSTART;TZID=America/Costa_Rica:20260726T000000
DTEND;TZID=America/Costa_Rica:20260726T235900
DTSTAMP:20260423T165546
CREATED:20251230T203906Z
LAST-MODIFIED:20251230T203906Z
UID:4020-1785024000-1785110340@narcoticosanonimoscr.org
SUMMARY:Conferencia de Seguimiento
DESCRIPTION:Conferencia de Seguimiento
URL:https://narcoticosanonimoscr.org/actividad/conferencia-de-seguimiento/
CATEGORIES:Conferencia
ATTACH;FMTTYPE=image/png:https://narcoticosanonimoscr.org/wp-content/uploads/2025/12/calendario-na.png
END:VEVENT
BEGIN:VEVENT
DTSTART;TZID=America/Costa_Rica:20260801T000000
DTEND;TZID=America/Costa_Rica:20260801T235900
DTSTAMP:20260423T165546
CREATED:20251230T203906Z
LAST-MODIFIED:20251230T203906Z
UID:4021-1785542400-1785628740@narcoticosanonimoscr.org
SUMMARY:Maratonica del Grupo una Luz en Paso Ancho
DESCRIPTION:Maratonica del Grupo una Luz en Paso Ancho
URL:https://narcoticosanonimoscr.org/actividad/maratonica-del-grupo-una-luz-en-paso-ancho/
CATEGORIES:Maraton
ATTACH;FMTTYPE=image/png:https://narcoticosanonimoscr.org/wp-content/uploads/2025/12/calendario-na.png
END:VEVENT
BEGIN:VEVENT
DTSTART;TZID=America/Costa_Rica:20260802T000000
DTEND;TZID=America/Costa_Rica:20260802T235900
DTSTAMP:20260423T165546
CREATED:20251230T203907Z
LAST-MODIFIED:20251230T203907Z
UID:4022-1785628800-1785715140@narcoticosanonimoscr.org
SUMMARY:Celebracion aniversario del Grupo Una luz en Paso Ancho
DESCRIPTION:Celebracion aniversario del Grupo Una luz en Paso Ancho
URL:https://narcoticosanonimoscr.org/actividad/celebracion-aniversario-del-grupo-una-luz-en-paso-ancho/
CATEGORIES:Aniversario
ATTACH;FMTTYPE=image/png:https://narcoticosanonimoscr.org/wp-content/uploads/2025/12/calendario-na.png
END:VEVENT
BEGIN:VEVENT
DTSTART;TZID=America/Costa_Rica:20260808T000000
DTEND;TZID=America/Costa_Rica:20260808T235900
DTSTAMP:20260423T165546
CREATED:20251230T203907Z
LAST-MODIFIED:20251230T203907Z
UID:4023-1786147200-1786233540@narcoticosanonimoscr.org
SUMMARY:Reunion CSR
DESCRIPTION:Reunion CSR
URL:https://narcoticosanonimoscr.org/actividad/reunion-csr-5/
CATEGORIES:CSR
ATTACH;FMTTYPE=image/png:https://narcoticosanonimoscr.org/wp-content/uploads/2025/12/calendario-na.png
END:VEVENT
BEGIN:VEVENT
DTSTART;TZID=America/Costa_Rica:20260809T000000
DTEND;TZID=America/Costa_Rica:20260809T235900
DTSTAMP:20260423T165546
CREATED:20251230T203920Z
LAST-MODIFIED:20251230T203920Z
UID:4024-1786233600-1786319940@narcoticosanonimoscr.org
SUMMARY:FoAG3
DESCRIPTION:FoAG3
URL:https://narcoticosanonimoscr.org/actividad/foag3-4/
CATEGORIES:FoAG
ATTACH;FMTTYPE=image/png:https://narcoticosanonimoscr.org/wp-content/uploads/2025/12/calendario-na.png
END:VEVENT
BEGIN:VEVENT
DTSTART;TZID=America/Costa_Rica:20260810T190000
DTEND;TZID=America/Costa_Rica:20260810T210000
DTSTAMP:20260423T165546
CREATED:20260408T205959Z
LAST-MODIFIED:20260408T210444Z
UID:5588-1786388400-1786395600@narcoticosanonimoscr.org
SUMMARY:Preliminares Grupo Ganas de Vivir
DESCRIPTION:
URL:https://narcoticosanonimoscr.org/actividad/preliminares-grupo-ganas-de-vivir/
LOCATION:Grupo Ganas de Vivir
END:VEVENT
END:VCALENDAR