BEGIN:VCALENDAR
VERSION:2.0
PRODID:-//Narcóticos Anónimos Costa Rica - ECPv6.15.20//NONSGML v1.0//EN
CALSCALE:GREGORIAN
METHOD:PUBLISH
X-WR-CALNAME:Narcóticos Anónimos Costa Rica
X-ORIGINAL-URL:https://narcoticosanonimoscr.org
X-WR-CALDESC:Eventos para Narcóticos Anónimos Costa Rica
REFRESH-INTERVAL;VALUE=DURATION:PT1H
X-Robots-Tag:noindex
X-PUBLISHED-TTL:PT1H
BEGIN:VTIMEZONE
TZID:America/Costa_Rica
BEGIN:STANDARD
TZOFFSETFROM:-0600
TZOFFSETTO:-0600
TZNAME:CST
DTSTART:20250101T000000
END:STANDARD
END:VTIMEZONE
BEGIN:VEVENT
DTSTART;TZID=America/Costa_Rica:20260531T000000
DTEND;TZID=America/Costa_Rica:20260531T235900
DTSTAMP:20260423T091656
CREATED:20251230T203805Z
LAST-MODIFIED:20251230T203805Z
UID:4001-1780185600-1780271940@narcoticosanonimoscr.org
SUMMARY:FoAG ZNC+FoAG Pacifico
DESCRIPTION:FoAG ZNC+FoAG Pacifico
URL:https://narcoticosanonimoscr.org/actividad/foag-zncfoag-pacifico-3/
CATEGORIES:FoAG
ATTACH;FMTTYPE=image/png:https://narcoticosanonimoscr.org/wp-content/uploads/2025/12/calendario-na.png
END:VEVENT
END:VCALENDAR