BEGIN:VCALENDAR
VERSION:2.0
PRODID:-//Narcóticos Anónimos Costa Rica - ECPv6.15.20//NONSGML v1.0//EN
CALSCALE:GREGORIAN
METHOD:PUBLISH
X-ORIGINAL-URL:https://narcoticosanonimoscr.org
X-WR-CALDESC:Eventos para Narcóticos Anónimos Costa Rica
REFRESH-INTERVAL;VALUE=DURATION:PT1H
X-Robots-Tag:noindex
X-PUBLISHED-TTL:PT1H
BEGIN:VTIMEZONE
TZID:America/Costa_Rica
BEGIN:STANDARD
TZOFFSETFROM:-0600
TZOFFSETTO:-0600
TZNAME:CST
DTSTART:20250101T000000
END:STANDARD
END:VTIMEZONE
BEGIN:VEVENT
DTSTART;TZID=America/Costa_Rica:20260427T190000
DTEND;TZID=America/Costa_Rica:20260502T210000
DTSTAMP:20260423T074400
CREATED:20260416T233214Z
LAST-MODIFIED:20260416T233214Z
UID:5672-1777316400-1777755600@narcoticosanonimoscr.org
SUMMARY:PRELIMINARES GRUPO RENACER DESAMPARADOS
DESCRIPTION:
URL:https://narcoticosanonimoscr.org/actividad/preliminares-grupo-renacer-desamparados/
LOCATION:Grupo Renacer Desamparados
ATTACH;FMTTYPE=image/jpeg:https://narcoticosanonimoscr.org/wp-content/uploads/2026/02/convencion-2024.jpg
END:VEVENT
BEGIN:VEVENT
DTSTART;TZID=America/Costa_Rica:20260502T130000
DTEND;TZID=America/Costa_Rica:20260502T130000
DTSTAMP:20260423T074400
CREATED:20260401T003343Z
LAST-MODIFIED:20260401T004454Z
UID:5529-1777726800-1777726800@narcoticosanonimoscr.org
SUMMARY:Aniversario Grupo Virtual Multihorario
DESCRIPTION:se celebrará a partir de la 1pm en el Grupo Solo x Hoy (Hatillo 8\, frente a escuela Jorge Debravo)
URL:https://narcoticosanonimoscr.org/actividad/aniversario-grupo-virtual-multihorario/
LOCATION:Grupo Solo por hoy\, WVHQ+288 San José\, Costa Rica\, san jose\, Costa Rica
END:VEVENT
END:VCALENDAR